Package: cypress Version: 1.2.0 Command: F:\biocbuild\bbs-3.20-bioc\R\bin\R.exe CMD check --no-multiarch --install=check:cypress.install-out.txt --library=F:\biocbuild\bbs-3.20-bioc\R\library --no-vignettes --timings cypress_1.2.0.tar.gz StartedAt: 2025-04-01 00:33:21 -0400 (Tue, 01 Apr 2025) EndedAt: 2025-04-01 00:49:26 -0400 (Tue, 01 Apr 2025) EllapsedTime: 965.2 seconds RetCode: 0 Status: OK CheckDir: cypress.Rcheck Warnings: 0