Package: cydar Version: 1.30.0 Command: F:\biocbuild\bbs-3.20-bioc\R\bin\R.exe CMD INSTALL cydar StartedAt: 2025-03-31 15:59:14 -0400 (Mon, 31 Mar 2025) EndedAt: 2025-03-31 16:00:18 -0400 (Mon, 31 Mar 2025) EllapsedTime: 64.4 seconds RetCode: 0 Status: OK