Package: cydar Version: 1.30.0 Command: /home/biocbuild/bbs-3.20-bioc/R/bin/R CMD check --install=check:cydar.install-out.txt --library=/home/biocbuild/bbs-3.20-bioc/R/site-library --timings cydar_1.30.0.tar.gz StartedAt: 2025-03-31 21:15:19 -0400 (Mon, 31 Mar 2025) EndedAt: 2025-03-31 21:19:23 -0400 (Mon, 31 Mar 2025) EllapsedTime: 244.3 seconds RetCode: 0 Status: OK CheckDir: cydar.Rcheck Warnings: 0