Package: cydar Version: 1.30.0 Command: /Library/Frameworks/R.framework/Resources/bin/R CMD build --keep-empty-dirs --no-resave-data cydar StartedAt: 2025-03-31 18:02:43 -0400 (Mon, 31 Mar 2025) EndedAt: 2025-03-31 18:05:02 -0400 (Mon, 31 Mar 2025) EllapsedTime: 138.8 seconds RetCode: 0 Status: OK PackageFile: cydar_1.30.0.tar.gz PackageFileSize: 744.1 KiB