Package: cydar Version: 1.30.0 Command: /Library/Frameworks/R.framework/Resources/bin/R CMD INSTALL cydar StartedAt: 2025-03-31 16:35:50 -0400 (Mon, 31 Mar 2025) EndedAt: 2025-03-31 16:36:41 -0400 (Mon, 31 Mar 2025) EllapsedTime: 50.5 seconds RetCode: 0 Status: OK