Package: customProDB Version: 1.46.0 Command: /home/biocbuild/R/R/bin/R CMD INSTALL customProDB StartedAt: 2025-03-31 20:40:25 -0000 (Mon, 31 Mar 2025) EndedAt: 2025-03-31 20:41:19 -0000 (Mon, 31 Mar 2025) EllapsedTime: 53.7 seconds RetCode: 0 Status: OK