Package: customProDB Version: 1.46.0 Command: F:\biocbuild\bbs-3.20-bioc\R\bin\R.exe CMD INSTALL customProDB StartedAt: 2025-03-31 16:15:28 -0400 (Mon, 31 Mar 2025) EndedAt: 2025-03-31 16:16:30 -0400 (Mon, 31 Mar 2025) EllapsedTime: 62.4 seconds RetCode: 0 Status: OK