Package: customCMPdb Version: 1.16.0 Command: /home/biocbuild/R/R/bin/R CMD build --keep-empty-dirs --no-resave-data customCMPdb StartedAt: 2025-03-31 22:51:28 -0000 (Mon, 31 Mar 2025) EndedAt: 2025-03-31 22:54:24 -0000 (Mon, 31 Mar 2025) EllapsedTime: 175.1 seconds RetCode: 0 Status: OK PackageFile: customCMPdb_1.16.0.tar.gz PackageFileSize: 730.4 KiB