Package: customCMPdb Version: 1.16.0 Command: /Library/Frameworks/R.framework/Resources/bin/R CMD build --keep-empty-dirs --no-resave-data customCMPdb StartedAt: 2025-03-31 18:01:52 -0400 (Mon, 31 Mar 2025) EndedAt: 2025-03-31 18:05:45 -0400 (Mon, 31 Mar 2025) EllapsedTime: 233.3 seconds RetCode: 0 Status: OK PackageFile: customCMPdb_1.16.0.tar.gz PackageFileSize: 693.9 KiB