Package: customCMPdb Version: 1.16.0 Command: /Library/Frameworks/R.framework/Resources/bin/R CMD INSTALL customCMPdb StartedAt: 2025-03-31 17:54:41 -0400 (Mon, 31 Mar 2025) EndedAt: 2025-03-31 17:55:01 -0400 (Mon, 31 Mar 2025) EllapsedTime: 19.3 seconds RetCode: 0 Status: OK