Package: cummeRbund Version: 2.48.0 Command: /home/biocbuild/bbs-3.20-bioc/R/bin/R CMD check --install=check:cummeRbund.install-out.txt --library=/home/biocbuild/bbs-3.20-bioc/R/site-library --timings cummeRbund_2.48.0.tar.gz StartedAt: 2025-03-31 21:13:54 -0400 (Mon, 31 Mar 2025) EndedAt: 2025-03-31 21:21:29 -0400 (Mon, 31 Mar 2025) EllapsedTime: 455.5 seconds RetCode: 0 Status: WARNINGS CheckDir: cummeRbund.Rcheck Warnings: 1