Package: cummeRbund Version: 2.48.0 Command: /Library/Frameworks/R.framework/Resources/bin/R CMD INSTALL cummeRbund StartedAt: 2025-03-31 15:59:17 -0400 (Mon, 31 Mar 2025) EndedAt: 2025-03-31 16:01:17 -0400 (Mon, 31 Mar 2025) EllapsedTime: 119.2 seconds RetCode: 0 Status: OK