Package: ctsGE Version: 1.32.0 Command: /home/biocbuild/R/R/bin/R CMD build --keep-empty-dirs --no-resave-data ctsGE StartedAt: 2025-03-31 22:50:58 -0000 (Mon, 31 Mar 2025) EndedAt: 2025-03-31 22:51:28 -0000 (Mon, 31 Mar 2025) EllapsedTime: 30.0 seconds RetCode: 0 Status: OK PackageFile: ctsGE_1.32.0.tar.gz PackageFileSize: 812.9 KiB