Package: ctsGE Version: 1.32.0 Command: /Library/Frameworks/R.framework/Resources/bin/R CMD INSTALL ctsGE StartedAt: 2025-03-31 15:52:33 -0400 (Mon, 31 Mar 2025) EndedAt: 2025-03-31 15:52:47 -0400 (Mon, 31 Mar 2025) EllapsedTime: 13.9 seconds RetCode: 0 Status: OK