Package: ctc Version: 1.80.0 Command: /home/biocbuild/bbs-3.20-bioc/R/bin/R CMD INSTALL ctc StartedAt: 2025-03-31 15:08:41 -0400 (Mon, 31 Mar 2025) EndedAt: 2025-03-31 15:08:47 -0400 (Mon, 31 Mar 2025) EllapsedTime: 6.6 seconds RetCode: 0 Status: OK