Package: ctc Version: 1.80.0 Command: /Library/Frameworks/R.framework/Resources/bin/R CMD INSTALL ctc StartedAt: 2025-03-31 15:03:41 -0400 (Mon, 31 Mar 2025) EndedAt: 2025-03-31 15:03:51 -0400 (Mon, 31 Mar 2025) EllapsedTime: 10.2 seconds RetCode: 0 Status: OK