Package: ctc Version: 1.80.0 Command: rm -rf ctc.buildbin-libdir && mkdir ctc.buildbin-libdir && /Users/biocbuild/BBS/utils/build-universal.sh ctc_1.80.0.tar.gz /Library/Frameworks/R.framework/Resources/bin/R ctc.buildbin-libdir StartedAt: 2025-04-01 11:41:31 -0400 (Tue, 01 Apr 2025) EndedAt: 2025-04-01 11:41:37 -0400 (Tue, 01 Apr 2025) EllapsedTime: 6.2 seconds RetCode: 0 Status: OK PackageFile: ctc_1.80.0.tgz PackageFileSize: 318.9 KiB