Package: ctc Version: 1.80.0 Command: /Library/Frameworks/R.framework/Resources/bin/R CMD build --keep-empty-dirs --no-resave-data ctc StartedAt: 2025-03-31 21:39:20 -0400 (Mon, 31 Mar 2025) EndedAt: 2025-03-31 21:39:29 -0400 (Mon, 31 Mar 2025) EllapsedTime: 9.2 seconds RetCode: 0 Status: OK PackageFile: ctc_1.80.0.tar.gz PackageFileSize: 270.3 KiB