Package: csdR Version: 1.12.0 Command: /Library/Frameworks/R.framework/Resources/bin/R CMD check --install=check:csdR.install-out.txt --library=/Library/Frameworks/R.framework/Resources/library --no-vignettes --timings csdR_1.12.0.tar.gz StartedAt: 2025-04-01 15:56:24 -0400 (Tue, 01 Apr 2025) EndedAt: 2025-04-01 16:03:18 -0400 (Tue, 01 Apr 2025) EllapsedTime: 413.8 seconds RetCode: 0 Status: OK CheckDir: csdR.Rcheck Warnings: 0