Package: crossmeta Version: 1.32.0 Command: /home/biocbuild/R/R/bin/R CMD INSTALL crossmeta StartedAt: 2025-03-31 20:54:19 -0000 (Mon, 31 Mar 2025) EndedAt: 2025-03-31 20:54:33 -0000 (Mon, 31 Mar 2025) EllapsedTime: 14.1 seconds RetCode: 0 Status: OK