Package: crossmeta Version: 1.32.0 Command: rm -rf crossmeta.buildbin-libdir && mkdir crossmeta.buildbin-libdir && F:\biocbuild\bbs-3.20-bioc\R\bin\R.exe CMD INSTALL --build --library=crossmeta.buildbin-libdir crossmeta_1.32.0.tar.gz StartedAt: 2025-04-01 07:59:32 -0400 (Tue, 01 Apr 2025) EndedAt: 2025-04-01 08:00:10 -0400 (Tue, 01 Apr 2025) EllapsedTime: 37.9 seconds RetCode: 0 Status: OK PackageFile: crossmeta_1.32.0.zip PackageFileSize: 2.782 MiB