Package: crisprVerse Version: 1.8.0 Command: /home/biocbuild/R/R/bin/R CMD INSTALL crisprVerse StartedAt: 2025-03-31 20:48:02 -0000 (Mon, 31 Mar 2025) EndedAt: 2025-03-31 20:49:05 -0000 (Mon, 31 Mar 2025) EllapsedTime: 62.5 seconds RetCode: 0 Status: OK