Package: crisprDesign Version: 1.8.0 Command: /home/biocbuild/R/R/bin/R CMD INSTALL crisprDesign StartedAt: 2025-03-31 20:40:33 -0000 (Mon, 31 Mar 2025) EndedAt: 2025-03-31 20:41:36 -0000 (Mon, 31 Mar 2025) EllapsedTime: 63.0 seconds RetCode: 0 Status: OK