Package: crisprDesign Version: 1.8.0 Command: /Library/Frameworks/R.framework/Resources/bin/R CMD INSTALL crisprDesign StartedAt: 2025-03-31 15:47:53 -0400 (Mon, 31 Mar 2025) EndedAt: 2025-03-31 15:49:38 -0400 (Mon, 31 Mar 2025) EllapsedTime: 105.8 seconds RetCode: 0 Status: OK