Package: crisprDesign Version: 1.8.0 Command: /Library/Frameworks/R.framework/Resources/bin/R CMD build --keep-empty-dirs --no-resave-data crisprDesign StartedAt: 2025-03-31 21:32:28 -0400 (Mon, 31 Mar 2025) EndedAt: 2025-03-31 21:34:21 -0400 (Mon, 31 Mar 2025) EllapsedTime: 112.2 seconds RetCode: 0 Status: OK PackageFile: crisprDesign_1.8.0.tar.gz PackageFileSize: 2.562 MiB