Package: crisprBwa Version: 1.10.0 Command: /home/biocbuild/R/R/bin/R CMD INSTALL crisprBwa StartedAt: 2025-03-31 20:33:15 -0000 (Mon, 31 Mar 2025) EndedAt: 2025-03-31 20:33:54 -0000 (Mon, 31 Mar 2025) EllapsedTime: 38.9 seconds RetCode: 0 Status: OK