Package: crisprBwa Version: 1.10.0 Command: /Library/Frameworks/R.framework/Resources/bin/R CMD INSTALL crisprBwa StartedAt: 2025-03-31 15:35:47 -0400 (Mon, 31 Mar 2025) EndedAt: 2025-03-31 15:36:53 -0400 (Mon, 31 Mar 2025) EllapsedTime: 65.6 seconds RetCode: 0 Status: OK