Package: crisprBwa Version: 1.10.0 Command: /Library/Frameworks/R.framework/Resources/bin/R CMD check --install=check:crisprBwa.install-out.txt --library=/Library/Frameworks/R.framework/Resources/library --no-vignettes --timings crisprBwa_1.10.0.tar.gz StartedAt: 2025-04-01 01:21:46 -0400 (Tue, 01 Apr 2025) EndedAt: 2025-04-01 01:30:08 -0400 (Tue, 01 Apr 2025) EllapsedTime: 501.9 seconds RetCode: 0 Status: OK CheckDir: crisprBwa.Rcheck Warnings: 0