Package: crisprBwa Version: 1.10.0 Command: /Library/Frameworks/R.framework/Resources/bin/R CMD build --keep-empty-dirs --no-resave-data crisprBwa StartedAt: 2025-03-31 17:58:58 -0400 (Mon, 31 Mar 2025) EndedAt: 2025-03-31 18:00:37 -0400 (Mon, 31 Mar 2025) EllapsedTime: 99.2 seconds RetCode: 0 Status: OK PackageFile: crisprBwa_1.10.0.tar.gz PackageFileSize: 359.6 KiB