Package: crisprBowtie Version: 1.10.0 Command: /home/biocbuild/R/R/bin/R CMD build --keep-empty-dirs --no-resave-data crisprBowtie StartedAt: 2025-03-31 22:47:37 -0000 (Mon, 31 Mar 2025) EndedAt: 2025-03-31 22:48:32 -0000 (Mon, 31 Mar 2025) EllapsedTime: 55.0 seconds RetCode: 0 Status: OK PackageFile: crisprBowtie_1.10.0.tar.gz PackageFileSize: 386.6 KiB