Package: crisprBase Version: 1.10.0 Command: /Library/Frameworks/R.framework/Resources/bin/R CMD check --install=check:crisprBase.install-out.txt --library=/Library/Frameworks/R.framework/Resources/library --no-vignettes --timings crisprBase_1.10.0.tar.gz StartedAt: 2025-04-01 01:21:33 -0400 (Tue, 01 Apr 2025) EndedAt: 2025-04-01 01:25:16 -0400 (Tue, 01 Apr 2025) EllapsedTime: 223.4 seconds RetCode: 0 Status: OK CheckDir: crisprBase.Rcheck Warnings: 0