Package: crisprBase Version: 1.10.0 Command: rm -rf crisprBase.buildbin-libdir && mkdir crisprBase.buildbin-libdir && /Users/biocbuild/BBS/utils/build-universal.sh crisprBase_1.10.0.tar.gz /Library/Frameworks/R.framework/Resources/bin/R crisprBase.buildbin-libdir StartedAt: 2025-04-02 13:54:01 -0400 (Wed, 02 Apr 2025) EndedAt: 2025-04-02 13:54:21 -0400 (Wed, 02 Apr 2025) EllapsedTime: 20.5 seconds RetCode: 0 Status: OK PackageFile: crisprBase_1.10.0.tgz PackageFileSize: 1.522 MiB