Package: covRNA Version: 1.32.0 Command: /Library/Frameworks/R.framework/Resources/bin/R CMD INSTALL covRNA StartedAt: 2025-03-31 17:09:29 -0400 (Mon, 31 Mar 2025) EndedAt: 2025-03-31 17:09:49 -0400 (Mon, 31 Mar 2025) EllapsedTime: 19.9 seconds RetCode: 0 Status: OK