Package: covRNA Version: 1.32.0 Command: /Library/Frameworks/R.framework/Resources/bin/R CMD check --install=check:covRNA.install-out.txt --library=/Library/Frameworks/R.framework/Resources/library --no-vignettes --timings covRNA_1.32.0.tar.gz StartedAt: 2025-04-01 15:27:56 -0400 (Tue, 01 Apr 2025) EndedAt: 2025-04-01 15:33:00 -0400 (Tue, 01 Apr 2025) EllapsedTime: 303.2 seconds RetCode: 0 Status: OK CheckDir: covRNA.Rcheck Warnings: 0