Package: covRNA Version: 1.32.0 Command: /Library/Frameworks/R.framework/Resources/bin/R CMD build --keep-empty-dirs --no-resave-data covRNA StartedAt: 2025-03-31 21:30:03 -0400 (Mon, 31 Mar 2025) EndedAt: 2025-03-31 21:31:11 -0400 (Mon, 31 Mar 2025) EllapsedTime: 68.9 seconds RetCode: 0 Status: OK PackageFile: covRNA_1.32.0.tar.gz PackageFileSize: 556.2 KiB