Package: covEB Version: 1.32.0 Command: /home/biocbuild/bbs-3.20-bioc/R/bin/R CMD INSTALL covEB StartedAt: 2025-03-31 15:12:09 -0400 (Mon, 31 Mar 2025) EndedAt: 2025-03-31 15:12:18 -0400 (Mon, 31 Mar 2025) EllapsedTime: 8.5 seconds RetCode: 0 Status: OK