Package: covEB Version: 1.32.0 Command: /Library/Frameworks/R.framework/Resources/bin/R CMD check --install=check:covEB.install-out.txt --library=/Library/Frameworks/R.framework/Resources/library --no-vignettes --timings covEB_1.32.0.tar.gz StartedAt: 2025-04-01 15:23:20 -0400 (Tue, 01 Apr 2025) EndedAt: 2025-04-01 15:24:20 -0400 (Tue, 01 Apr 2025) EllapsedTime: 59.6 seconds RetCode: 0 Status: OK CheckDir: covEB.Rcheck Warnings: 0