Package: countsimQC Version: 1.24.0 Command: /home/biocbuild/R/R/bin/R CMD INSTALL countsimQC StartedAt: 2025-03-31 20:52:49 -0000 (Mon, 31 Mar 2025) EndedAt: 2025-03-31 20:53:28 -0000 (Mon, 31 Mar 2025) EllapsedTime: 39.6 seconds RetCode: 0 Status: OK