Package: countsimQC Version: 1.24.0 Command: /home/biocbuild/R/R/bin/R CMD check --install=check:countsimQC.install-out.txt --library=/home/biocbuild/R/R/site-library --no-vignettes --timings countsimQC_1.24.0.tar.gz StartedAt: 2025-04-01 05:24:35 -0000 (Tue, 01 Apr 2025) EndedAt: 2025-04-01 05:33:33 -0000 (Tue, 01 Apr 2025) EllapsedTime: 537.4 seconds RetCode: 0 Status: OK CheckDir: countsimQC.Rcheck Warnings: 0