Package: countsimQC Version: 1.24.0 Command: F:\biocbuild\bbs-3.20-bioc\R\bin\R.exe CMD check --no-multiarch --install=check:countsimQC.install-out.txt --library=F:\biocbuild\bbs-3.20-bioc\R\library --no-vignettes --timings countsimQC_1.24.0.tar.gz StartedAt: 2025-04-01 00:25:03 -0400 (Tue, 01 Apr 2025) EndedAt: 2025-04-01 00:33:19 -0400 (Tue, 01 Apr 2025) EllapsedTime: 496.4 seconds RetCode: 0 Status: OK CheckDir: countsimQC.Rcheck Warnings: 0