Package: countsimQC Version: 1.24.0 Command: /Library/Frameworks/R.framework/Resources/bin/R CMD INSTALL countsimQC StartedAt: 2025-03-31 16:08:29 -0400 (Mon, 31 Mar 2025) EndedAt: 2025-03-31 16:09:32 -0400 (Mon, 31 Mar 2025) EllapsedTime: 63.2 seconds RetCode: 0 Status: OK