Package: countsimQC Version: 1.24.0 Command: /Library/Frameworks/R.framework/Resources/bin/R CMD check --install=check:countsimQC.install-out.txt --library=/Library/Frameworks/R.framework/Resources/library --no-vignettes --timings countsimQC_1.24.0.tar.gz StartedAt: 2025-04-01 01:18:10 -0400 (Tue, 01 Apr 2025) EndedAt: 2025-04-01 01:32:56 -0400 (Tue, 01 Apr 2025) EllapsedTime: 886.4 seconds RetCode: 0 Status: OK CheckDir: countsimQC.Rcheck Warnings: 0