Package: countsimQC Version: 1.24.0 Command: /Library/Frameworks/R.framework/Resources/bin/R CMD build --keep-empty-dirs --no-resave-data countsimQC StartedAt: 2025-03-31 21:28:04 -0400 (Mon, 31 Mar 2025) EndedAt: 2025-03-31 21:30:03 -0400 (Mon, 31 Mar 2025) EllapsedTime: 118.5 seconds RetCode: 0 Status: OK PackageFile: countsimQC_1.24.0.tar.gz PackageFileSize: 440.3 KiB