Package: coseq Version: 1.30.0 Command: /home/biocbuild/R/R/bin/R CMD check --install=check:coseq.install-out.txt --library=/home/biocbuild/R/R/site-library --no-vignettes --timings coseq_1.30.0.tar.gz StartedAt: 2025-04-01 05:23:22 -0000 (Tue, 01 Apr 2025) EndedAt: 2025-04-01 05:27:50 -0000 (Tue, 01 Apr 2025) EllapsedTime: 267.2 seconds RetCode: 0 Status: OK CheckDir: coseq.Rcheck Warnings: 0