Package: coseq Version: 1.30.0 Command: rm -rf coseq.buildbin-libdir && mkdir coseq.buildbin-libdir && F:\biocbuild\bbs-3.20-bioc\R\bin\R.exe CMD INSTALL --build --library=coseq.buildbin-libdir coseq_1.30.0.tar.gz StartedAt: 2025-04-01 07:58:38 -0400 (Tue, 01 Apr 2025) EndedAt: 2025-04-01 07:59:27 -0400 (Tue, 01 Apr 2025) EllapsedTime: 48.4 seconds RetCode: 0 Status: OK PackageFile: coseq_1.30.0.zip PackageFileSize: 1.393 MiB