Package: copa Version: 1.74.0 Command: /Library/Frameworks/R.framework/Resources/bin/R CMD build --keep-empty-dirs --no-resave-data copa StartedAt: 2025-03-31 17:54:58 -0400 (Mon, 31 Mar 2025) EndedAt: 2025-03-31 17:55:23 -0400 (Mon, 31 Mar 2025) EllapsedTime: 24.8 seconds RetCode: 0 Status: OK PackageFile: copa_1.74.0.tar.gz PackageFileSize: 121 KiB