Package: copa Version: 1.74.0 Command: rm -rf copa.buildbin-libdir && mkdir copa.buildbin-libdir && /Users/biocbuild/BBS/utils/build-universal.sh copa_1.74.0.tar.gz /Library/Frameworks/R.framework/Resources/bin/R copa.buildbin-libdir StartedAt: 2025-04-01 11:39:52 -0400 (Tue, 01 Apr 2025) EndedAt: 2025-04-01 11:40:02 -0400 (Tue, 01 Apr 2025) EllapsedTime: 9.9 seconds RetCode: 0 Status: OK PackageFile: copa_1.74.0.tgz PackageFileSize: 159.5 KiB