Package: convert Version: 1.82.0 Command: rm -rf convert.buildbin-libdir && mkdir convert.buildbin-libdir && /Users/biocbuild/BBS/utils/build-universal.sh convert_1.82.0.tar.gz /Library/Frameworks/R.framework/Resources/bin/R convert.buildbin-libdir StartedAt: 2025-04-02 13:52:08 -0400 (Wed, 02 Apr 2025) EndedAt: 2025-04-02 13:52:14 -0400 (Wed, 02 Apr 2025) EllapsedTime: 5.7 seconds RetCode: 0 Status: OK PackageFile: convert_1.82.0.tgz PackageFileSize: 181.7 KiB