Package: conumee Version: 1.40.0 Command: /home/biocbuild/bbs-3.20-bioc/R/bin/R CMD check --install=check:conumee.install-out.txt --library=/home/biocbuild/bbs-3.20-bioc/R/site-library --timings conumee_1.40.0.tar.gz StartedAt: 2025-03-31 21:03:33 -0400 (Mon, 31 Mar 2025) EndedAt: 2025-03-31 21:27:55 -0400 (Mon, 31 Mar 2025) EllapsedTime: 1462.5 seconds RetCode: 0 Status: OK CheckDir: conumee.Rcheck Warnings: 0