Package: conumee Version: 1.40.0 Command: /Library/Frameworks/R.framework/Resources/bin/R CMD check --install=check:conumee.install-out.txt --library=/Library/Frameworks/R.framework/Resources/library --no-vignettes --timings conumee_1.40.0.tar.gz StartedAt: 2025-04-01 01:12:04 -0400 (Tue, 01 Apr 2025) EndedAt: 2025-04-01 01:52:05 -0400 (Tue, 01 Apr 2025) EllapsedTime: 2400.7 seconds RetCode: None Status: TIMEOUT CheckDir: conumee.Rcheck Warnings: NA